BEGIN:VCALENDAR
VERSION:2.0
PRODID:-//For Your Health News - ECPv6.11.1//NONSGML v1.0//EN
CALSCALE:GREGORIAN
METHOD:PUBLISH
X-WR-CALNAME:For Your Health News
X-ORIGINAL-URL:https://fyh.news
X-WR-CALDESC:Events for For Your Health News
REFRESH-INTERVAL;VALUE=DURATION:PT1H
X-Robots-Tag:noindex
X-PUBLISHED-TTL:PT1H
BEGIN:VTIMEZONE
TZID:America/New_York
BEGIN:DAYLIGHT
TZOFFSETFROM:-0500
TZOFFSETTO:-0400
TZNAME:EDT
DTSTART:20220313T070000
END:DAYLIGHT
BEGIN:STANDARD
TZOFFSETFROM:-0400
TZOFFSETTO:-0500
TZNAME:EST
DTSTART:20221106T060000
END:STANDARD
END:VTIMEZONE
BEGIN:VEVENT
DTSTART;TZID=America/New_York:20220608T083000
DTEND;TZID=America/New_York:20220608T163000
DTSTAMP:20260423T232919
CREATED:20220515T174733Z
LAST-MODIFIED:20220515T174733Z
UID:8587-1654677000-1654705800@fyh.news
SUMMARY:23rd Annual Harvard Nutrition Obesity Symposium The Neurobiology of Eating Behavior in Obesity: Mechanisms and Therapeutic Targets
DESCRIPTION:This event will be held virtually. All are welcome! Registration for this event is free for all attendees.
URL:https://fyh.news/event/22nd-annual-harvard-nutrition-obesity-symposium-global-food-systems-and-sustainable-nutrition-in-the-21st-century/
END:VEVENT
END:VCALENDAR