BEGIN:VCALENDAR
VERSION:2.0
PRODID:-//For Your Health News - ECPv6.11.1//NONSGML v1.0//EN
CALSCALE:GREGORIAN
METHOD:PUBLISH
X-WR-CALNAME:For Your Health News
X-ORIGINAL-URL:https://fyh.news
X-WR-CALDESC:Events for For Your Health News
REFRESH-INTERVAL;VALUE=DURATION:PT1H
X-Robots-Tag:noindex
X-PUBLISHED-TTL:PT1H
BEGIN:VTIMEZONE
TZID:America/New_York
BEGIN:DAYLIGHT
TZOFFSETFROM:-0500
TZOFFSETTO:-0400
TZNAME:EDT
DTSTART:20220313T070000
END:DAYLIGHT
BEGIN:STANDARD
TZOFFSETFROM:-0400
TZOFFSETTO:-0500
TZNAME:EST
DTSTART:20221106T060000
END:STANDARD
END:VTIMEZONE
BEGIN:VEVENT
DTSTART;TZID=America/New_York:20220625T110000
DTEND;TZID=America/New_York:20220625T160000
DTSTAMP:20260425T230912
CREATED:20220519T032056Z
LAST-MODIFIED:20220519T032056Z
UID:9022-1656154800-1656172800@fyh.news
SUMMARY:Healthier Futures Wellness Expo
DESCRIPTION:Join EmblemHealth for a free fun filled family day with health screenings\, music\, kids entertainment and more! The wellness expo creates an opportunity for community members to connect with health screenings and vaccinations\, fitness demos\, fun for the kids\, and live entertainment right in their backyard. \nThe day begins at 11AM with a packed program\, including stage entertainers\, fitness demos\, a wellness pavilion with chair massages\, barber cuts\, and more. There will be clinical screenings provided to community members as an opportunity to check in with their health and the interactive partner plaza where our community partners highlight their organizations with demos\, activities\, giveaways\, and valuable resources. And we can’t forget the food market that will provide free fresh foods for the community! \nWe can’t wait to see you. Please wear a face covering and social distance while gathering.
URL:https://fyh.news/event/healthier-futures-wellness-expo/
LOCATION:United States
END:VEVENT
END:VCALENDAR