BEGIN:VCALENDAR
VERSION:2.0
PRODID:-//For Your Health News - ECPv6.11.1//NONSGML v1.0//EN
CALSCALE:GREGORIAN
METHOD:PUBLISH
X-WR-CALNAME:For Your Health News
X-ORIGINAL-URL:https://fyh.news
X-WR-CALDESC:Events for For Your Health News
REFRESH-INTERVAL;VALUE=DURATION:PT1H
X-Robots-Tag:noindex
X-PUBLISHED-TTL:PT1H
BEGIN:VTIMEZONE
TZID:America/New_York
BEGIN:DAYLIGHT
TZOFFSETFROM:-0500
TZOFFSETTO:-0400
TZNAME:EDT
DTSTART:20220313T070000
END:DAYLIGHT
BEGIN:STANDARD
TZOFFSETFROM:-0400
TZOFFSETTO:-0500
TZNAME:EST
DTSTART:20221106T060000
END:STANDARD
END:VTIMEZONE
BEGIN:VEVENT
DTSTART;TZID=America/New_York:20221210T110000
DTEND;TZID=America/New_York:20221210T133000
DTSTAMP:20260423T131336
CREATED:20221129T225129Z
LAST-MODIFIED:20221129T225129Z
UID:18397-1670670000-1670679000@fyh.news
SUMMARY:Mental Health Symposium
DESCRIPTION:The Prince George’s County Section of the National Council of Negro Women is hosting a mental health symposium that is FREE and open to the public. The goal of this event is to promote awareness\, share tools to cope\, and help decrease the stigma associated with experiencing and seeking help with mental health conditions. \nTHEME: How Do You Really Feel? \nThis symposium will feature: \n\nDynamic speaker panel of local mental health professionals\nInteractive audience activities – Mental Health First Aid\nPresentations on health topics\nGood Health WINs initiative presentation\nExhibits from local organizations\nFREE swag bag and refreshments for attendees (while supplies last)\n\nDoors open at 11am. Visit the exhibit booths and network. Program starts at 11:30am. A healthy mind is uplifting. Come out with the community and join the fun! \nPlease register in advance to reserve your seat. Facemasks are politely requested at venue.
URL:https://fyh.news/event/mental-health-symposium/
LOCATION:United States
END:VEVENT
END:VCALENDAR