BEGIN:VCALENDAR
VERSION:2.0
PRODID:-//For Your Health News - ECPv6.11.1//NONSGML v1.0//EN
CALSCALE:GREGORIAN
METHOD:PUBLISH
X-WR-CALNAME:For Your Health News
X-ORIGINAL-URL:https://fyh.news
X-WR-CALDESC:Events for For Your Health News
REFRESH-INTERVAL;VALUE=DURATION:PT1H
X-Robots-Tag:noindex
X-PUBLISHED-TTL:PT1H
BEGIN:VTIMEZONE
TZID:America/New_York
BEGIN:DAYLIGHT
TZOFFSETFROM:-0500
TZOFFSETTO:-0400
TZNAME:EDT
DTSTART:20220313T070000
END:DAYLIGHT
BEGIN:STANDARD
TZOFFSETFROM:-0400
TZOFFSETTO:-0500
TZNAME:EST
DTSTART:20221106T060000
END:STANDARD
END:VTIMEZONE
BEGIN:VEVENT
DTSTART;TZID=America/New_York:20221008T100000
DTEND;TZID=America/New_York:20221008T160000
DTSTAMP:20260419T095939
CREATED:20220925T212637Z
LAST-MODIFIED:20220925T212637Z
UID:16314-1665223200-1665244800@fyh.news
SUMMARY:"Treasure Your Health" 2022 Health Fair & Expo
DESCRIPTION:Join us for FREE resources\, health stations (including vaccination stations)\, clothes closets\, soccer activities and more. This event will be a treasure chest of fun\, with special guests from Detroit City Football Club! \nAll children will be provided a treasure map with opportunities to collect up to 10 “treasures\,” as families visit resource stations positioned throughout Art Park\, to include: \n\nPrimary Care Station (appointment scheduling with a pediatrician)\nChildhood Literacy Station (free books/book signing with Author P.J. Bass )\nClothing Station (gently used children’s clothing\, hats & gloves)\nExercise Station (resources & demonstrations)\nFresh Produce Station (free boxes\, valued at $35 ea.)\nHorizons Project Station (HIV/AIDS testing/screening)\nMental Health & Development Station (resources)\nNutrition Station (resources & healthy snacks)\nStay-Active Station (featuring Detroit City Football Club)\nVaccination Station (immunizations)\n\nIn partnership with the Detroit Health Department\, immunizations will be available for the entire family\, including COVID -19 vaccines and boosters for babies as young as 6-months old. Volunteer students from Wayne State School of Medicine will also be on hand to help administer vaccinations. \nRain date is October 15.
URL:https://fyh.news/event/treasure-your-health-2022-health-fair-expo/
LOCATION:United States
END:VEVENT
END:VCALENDAR