BEGIN:VCALENDAR
VERSION:2.0
PRODID:-//For Your Health News - ECPv6.11.1//NONSGML v1.0//EN
CALSCALE:GREGORIAN
METHOD:PUBLISH
X-WR-CALNAME:For Your Health News
X-ORIGINAL-URL:https://fyh.news
X-WR-CALDESC:Events for For Your Health News
REFRESH-INTERVAL;VALUE=DURATION:PT1H
X-Robots-Tag:noindex
X-PUBLISHED-TTL:PT1H
BEGIN:VTIMEZONE
TZID:America/New_York
BEGIN:DAYLIGHT
TZOFFSETFROM:-0500
TZOFFSETTO:-0400
TZNAME:EDT
DTSTART:20250309T070000
END:DAYLIGHT
BEGIN:STANDARD
TZOFFSETFROM:-0400
TZOFFSETTO:-0500
TZNAME:EST
DTSTART:20251102T060000
END:STANDARD
END:VTIMEZONE
BEGIN:VEVENT
DTSTART;TZID=America/New_York:20250530T120000
DTEND;TZID=America/New_York:20250530T130000
DTSTAMP:20260419T201444
CREATED:20250529T144743Z
LAST-MODIFIED:20250529T145150Z
UID:54670-1748606400-1748610000@fyh.news
SUMMARY:Understanding the Intersection of Gender\, Race & Lupus
DESCRIPTION:Invisible No More: Understanding the Intersection of Gender\, Race & Lupus\n\n\n\nJoin the National Minority Quality Forum’s Center for Sustainable Health Care Quality & Equity as we spotlight the real stories\, systemic gaps\, and intersectional insights that shape how lupus affects women of color.\n\n\n\n Panelists Include:\n\nChinnie Ukachukwu\, MPH (NMQF)\nCaroline Donovan\, MPH (Lupus Therapeutics)\nAna Vasquez (Lupus Advocate)\nSamya Curtis (Health Champion)\n\n\nWe’re proud to host “Invisible No More: Understanding the Intersection of Gender\, Race & Lupus” — a dynamic and timely webinar that centers the voices\, experiences\, and disparities affecting the communities most impacted by lupus. Learn how you can help drive change in research\, care\, and community outreach — and move beyond awareness to meaningful action and lasting impact. \nDate: Friday\, May 30 \nTime: 12 noon ET \nRegister now: BIT.LY/NMQF0530
URL:https://fyh.news/event/understanding-the-intersection-of-gender-race-lupus/
ATTACH;FMTTYPE=image/jpeg:https://fyh.news/wp-content/uploads/2025/05/In-Honor-of-Lupus-Awareness-and-Womens-Health-Month-1.jpg
END:VEVENT
END:VCALENDAR