BEGIN:VCALENDAR
VERSION:2.0
PRODID:-//For Your Health News - ECPv6.11.1//NONSGML v1.0//EN
CALSCALE:GREGORIAN
METHOD:PUBLISH
X-ORIGINAL-URL:https://fyh.news
X-WR-CALDESC:Events for For Your Health News
REFRESH-INTERVAL;VALUE=DURATION:PT1H
X-Robots-Tag:noindex
X-PUBLISHED-TTL:PT1H
BEGIN:VTIMEZONE
TZID:America/Chicago
BEGIN:DAYLIGHT
TZOFFSETFROM:-0600
TZOFFSETTO:-0500
TZNAME:CDT
DTSTART:20240310T080000
END:DAYLIGHT
BEGIN:STANDARD
TZOFFSETFROM:-0500
TZOFFSETTO:-0600
TZNAME:CST
DTSTART:20241103T070000
END:STANDARD
END:VTIMEZONE
BEGIN:VEVENT
DTSTART;VALUE=DATE:20240507
DTEND;VALUE=DATE:20240510
DTSTAMP:20260424T083005
CREATED:20240327T212134Z
LAST-MODIFIED:20240327T212134Z
UID:10000123-1715040000-1715299199@fyh.news
SUMMARY:ACCELERATING HEALTH EQUITY CONFERENCE
DESCRIPTION:Long-standing health care disparities and inequities still persist. Systemic drivers such as structural racism and economic disadvantages have resulted in disproportionate health outcomes across different patient populations. Education\, safe and affordable housing\, transportation and nutritious food access all have a significant impact on the quality and quantity of an individual’s life and overall health. \nJoin us for the upcoming Accelerating Health Equity Conference\, where leaders and organizations focused on accelerating health equity will work to continue driving change together. \nThe Accelerating Health Equity Conference brings together professionals focused on improving community and population health and building partnerships\, and professionals striving to advance diversity and inclusion within hospital management and executive levels. These two groups of key stakeholders are made up of leaders in the following fields: \n\nCommunity benefit\nPopulation health\nExternal affairs\nStrategy and mission\nDiversity\, equity and inclusion\n\nWhat to Expect:\nDuring the three-day conference\, you will: \n\nHear from leading voices in the fight against health inequities as they share the latest insights\, ideas and success stories\nParticipate in breakout sessions packed with insights and resources you can bring back to your organization\nJoin how-to workshops and interactive problem-solving activities\n\nDon’t wait! Sign up for a community immersion experience and a pre-conference workshop now before the spots sell out!
URL:https://fyh.news/event/accelerating-health-equity-conference-2/
LOCATION:Kansas City\, MO
ORGANIZER;CN="American Hospital Association":MAILTO:healthequity@aha.org
END:VEVENT
END:VCALENDAR