BEGIN:VCALENDAR
VERSION:2.0
PRODID:-//For Your Health News - ECPv6.11.1//NONSGML v1.0//EN
CALSCALE:GREGORIAN
METHOD:PUBLISH
X-ORIGINAL-URL:https://fyh.news
X-WR-CALDESC:Events for For Your Health News
REFRESH-INTERVAL;VALUE=DURATION:PT1H
X-Robots-Tag:noindex
X-PUBLISHED-TTL:PT1H
BEGIN:VTIMEZONE
TZID:America/Chicago
BEGIN:DAYLIGHT
TZOFFSETFROM:-0600
TZOFFSETTO:-0500
TZNAME:CDT
DTSTART:20250309T080000
END:DAYLIGHT
BEGIN:STANDARD
TZOFFSETFROM:-0500
TZOFFSETTO:-0600
TZNAME:CST
DTSTART:20251102T070000
END:STANDARD
END:VTIMEZONE
BEGIN:VEVENT
DTSTART;TZID=America/Chicago:20250628T113000
DTEND;TZID=America/Chicago:20250628T150000
DTSTAMP:20260424T235003
CREATED:20250522T220711Z
LAST-MODIFIED:20250522T221010Z
UID:10000141-1751110200-1751122800@fyh.news
SUMMARY:NOLA Wellness Fest | An NMQF Connect Health Pop-Up In New Orleans
DESCRIPTION:🎉 Join Us for a Free Community Health Screening Event in New Orleans! \nThe National Minority Quality Forum (NMQF) invites you to a free general health screening on Saturday\, June 28\, 2025\, from 11:30 AM – 3:00 PM at Xavier University of Louisiana | Mary & William McCaffrey Ballroom \nMini Clinic Health Screenings & Services Offered: \n✅ Breast exams\n✅ Kidney screenings\n✅ Lung risk assessment\n✅ Blood pressure checks\n✅ Blood sugar screenings\n✅ Vision (optical) exams\n✅ Dental exams\n✅ Mental health support resources\n✅ And more! \nVaccinations Available:\n(For insured and uninsured individuals) \nCOVID-19 vaccinations and more!\nGeneral Healthcare & Resources: \nPrimary care referrals\nEach attendee will receive a “Health Passport” to help guide them through their screenings and connect them to follow-up care as needed. Our mission is to promote early detection and link participants with critical health services. \nWe’re proud to partner with the Divine 9\, community groups\, advocacy organizations\, health systems\, and clinics — working together to reduce health disparities and advance health equity in New Orleans underserved communities. \nEnjoy:\n🎟 Free Admission | 🩺 Free Screenings |🍴 Free Food | 🎁 Giveaways | 🎶 Music | 🧒🏽 Kid’s Zone \nWe can’t wait to see you there! \n👉 Get Free tickets: https://bit.ly/3HkyGe1
URL:https://fyh.news/event/nola-wellness-fest-an-nmqf-connect-health-pop-up-in-new-orleans/
LOCATION:Xavier University of Louisiana | Mary & William McCaffrey Ballroom\, 4955 Drexel Drive New Orleans\, LA 70125\, New Orleans\, LA\, 70125\, United States
ATTACH;FMTTYPE=image/png:https://fyh.news/wp-content/uploads/2025/05/nola_banner.png
END:VEVENT
END:VCALENDAR